BEGIN:VCALENDAR
VERSION:2.0
PRODID:Events Booking
BEGIN:VEVENT
UID:69e49309878c9
SUMMARY:Postal Saving Opportunities You May Be Missing
DESCRIPTION:Please Join Us for this Valuable Zoom:
 Virtual Workshop
 Pos
 tal Saving Opportunities You May Be Missing
 July 10\, 2025
 2:00PM EST
LOCATION:o
DTSTART:20250710T190000Z
DTEND:20250710T200000Z
DTSTAMP:20250609T231848Z
ORGANIZER;CN=Central Ohio Postal Customer Council:MAILTO:registration@copcc
 .com
END:VEVENT
END:VCALENDAR